Package: RTCGAToolbox Version: 2.34.0 Command: /Library/Frameworks/R.framework/Resources/bin/R CMD INSTALL RTCGAToolbox StartedAt: 2024-10-16 16:33:55 -0400 (Wed, 16 Oct 2024) EndedAt: 2024-10-16 16:34:22 -0400 (Wed, 16 Oct 2024) EllapsedTime: 27.8 seconds RetCode: 0 Status: OK