Package: RTCGAToolbox Version: 2.34.0 Command: /home/biocbuild/R/R-beta-2024-04-15_r86425/bin/R CMD build --keep-empty-dirs --no-resave-data RTCGAToolbox StartedAt: 2024-05-09 03:12:36 -0000 (Thu, 09 May 2024) EndedAt: 2024-05-09 03:13:38 -0000 (Thu, 09 May 2024) EllapsedTime: 62.1 seconds RetCode: 0 Status: OK PackageFile: RTCGAToolbox_2.34.0.tar.gz PackageFileSize: 2.353 MiB