Package: RTopper Version: 1.50.0 Command: /Library/Frameworks/R.framework/Resources/bin/R CMD check --install=check:RTopper.install-out.txt --library=/Library/Frameworks/R.framework/Resources/library --no-vignettes --timings RTopper_1.50.0.tar.gz StartedAt: 2024-10-18 10:30:18 -0400 (Fri, 18 Oct 2024) EndedAt: 2024-10-18 10:31:39 -0400 (Fri, 18 Oct 2024) EllapsedTime: 80.8 seconds RetCode: 0 Status: OK CheckDir: RTopper.Rcheck Warnings: 0