Package: RTopper Version: 1.50.0 Command: /home/biocbuild/R/R-beta-2024-04-15_r86425/bin/R CMD check --install=check:RTopper.install-out.txt --library=/home/biocbuild/R/R-beta-2024-04-15_r86425/site-library --no-vignettes --timings RTopper_1.50.0.tar.gz StartedAt: 2024-05-09 11:27:52 -0000 (Thu, 09 May 2024) EndedAt: 2024-05-09 11:29:18 -0000 (Thu, 09 May 2024) EllapsedTime: 86.2 seconds RetCode: 0 Status: OK CheckDir: RTopper.Rcheck Warnings: 0