Package: RTopper Version: 1.50.0 Command: /Library/Frameworks/R.framework/Resources/bin/R CMD check --install=check:RTopper.install-out.txt --library=/Library/Frameworks/R.framework/Resources/library --no-vignettes --timings RTopper_1.50.0.tar.gz StartedAt: 2024-10-17 12:19:00 -0400 (Thu, 17 Oct 2024) EndedAt: 2024-10-17 12:21:59 -0400 (Thu, 17 Oct 2024) EllapsedTime: 179.0 seconds RetCode: 0 Status: OK CheckDir: RTopper.Rcheck Warnings: 0