Package: RTopper Version: 1.50.0 Command: /home/biocbuild/bbs-3.19-bioc/R/bin/R CMD build --keep-empty-dirs --no-resave-data RTopper StartedAt: 2024-10-16 20:34:20 -0400 (Wed, 16 Oct 2024) EndedAt: 2024-10-16 20:35:15 -0400 (Wed, 16 Oct 2024) EllapsedTime: 55.2 seconds RetCode: 0 Status: OK PackageFile: RTopper_1.50.0.tar.gz PackageFileSize: 1.205 MiB