Package: RTopper Version: 1.50.0 Command: /home/biocbuild/bbs-3.19-bioc/R/bin/R CMD check --install=check:RTopper.install-out.txt --library=/home/biocbuild/bbs-3.19-bioc/R/site-library --timings RTopper_1.50.0.tar.gz StartedAt: 2024-10-17 04:36:46 -0400 (Thu, 17 Oct 2024) EndedAt: 2024-10-17 04:38:41 -0400 (Thu, 17 Oct 2024) EllapsedTime: 115.3 seconds RetCode: 0 Status: OK CheckDir: RTopper.Rcheck Warnings: 0