Package: RTopper Version: 1.50.0 Command: rm -rf RTopper.buildbin-libdir && mkdir RTopper.buildbin-libdir && F:\biocbuild\bbs-3.19-bioc\R\bin\R.exe CMD INSTALL --build --library=RTopper.buildbin-libdir RTopper_1.50.0.tar.gz StartedAt: 2024-06-27 08:50:25 -0400 (Thu, 27 Jun 2024) EndedAt: 2024-06-27 08:50:48 -0400 (Thu, 27 Jun 2024) EllapsedTime: 22.1 seconds RetCode: 0 Status: OK PackageFile: RTopper_1.50.0.zip PackageFileSize: 1.236 MiB