Package: RTopper Version: 1.50.0 Command: chmod a+r RTopper -R && F:\biocbuild\bbs-3.19-bioc\R\bin\R.exe CMD build --keep-empty-dirs --no-resave-data RTopper StartedAt: 2024-06-26 21:34:10 -0400 (Wed, 26 Jun 2024) EndedAt: 2024-06-26 21:47:35 -0400 (Wed, 26 Jun 2024) EllapsedTime: 804.5 seconds RetCode: 0 Status: OK PackageFile: RTopper_1.50.0.tar.gz PackageFileSize: 1.206 MiB