Package: RTopper Version: 1.50.0 Command: E:\biocbuild\bbs-3.19-bioc\R\bin\R.exe CMD INSTALL RTopper StartedAt: 2024-10-16 17:03:21 -0400 (Wed, 16 Oct 2024) EndedAt: 2024-10-16 17:03:35 -0400 (Wed, 16 Oct 2024) EllapsedTime: 13.8 seconds RetCode: 0 Status: OK