Package: RVS Version: 1.26.0 Maintainer: Alexandre Bureau MaintainerEmail: alexandre.bureau at fmed.ulaval.ca git_url: https://git.bioconductor.org/packages/RVS git_branch: RELEASE_3_19 git_last_commit: 97ca41e git_last_commit_date: 2024-04-30 10:59:36 -0400 (Tue, 30 Apr 2024)