Package: RVS Version: 1.26.0 Command: /Library/Frameworks/R.framework/Resources/bin/R CMD check --install=check:RVS.install-out.txt --library=/Library/Frameworks/R.framework/Resources/library --no-vignettes --timings RVS_1.26.0.tar.gz StartedAt: 2024-10-17 12:20:41 -0400 (Thu, 17 Oct 2024) EndedAt: 2024-10-17 12:30:47 -0400 (Thu, 17 Oct 2024) EllapsedTime: 606.1 seconds RetCode: 0 Status: WARNINGS CheckDir: RVS.Rcheck Warnings: 1