Package: RVS Version: 1.26.0 Command: rm -rf RVS.buildbin-libdir && mkdir RVS.buildbin-libdir && F:\biocbuild\bbs-3.19-bioc\R\bin\R.exe CMD INSTALL --build --library=RVS.buildbin-libdir RVS_1.26.0.tar.gz StartedAt: 2024-06-27 08:50:50 -0400 (Thu, 27 Jun 2024) EndedAt: 2024-06-27 08:51:08 -0400 (Thu, 27 Jun 2024) EllapsedTime: 18.3 seconds RetCode: 0 Status: OK PackageFile: RVS_1.26.0.zip PackageFileSize: 499.7 KiB