Package: RVS Version: 1.26.0 Command: chmod a+r RVS -R && E:\biocbuild\bbs-3.19-bioc\R\bin\R.exe CMD build --keep-empty-dirs --no-resave-data RVS StartedAt: 2024-10-16 21:40:31 -0400 (Wed, 16 Oct 2024) EndedAt: 2024-10-16 21:43:11 -0400 (Wed, 16 Oct 2024) EllapsedTime: 160.1 seconds RetCode: 0 Status: OK PackageFile: RVS_1.26.0.tar.gz PackageFileSize: 381.4 KiB