Package: RadioGx Version: 2.8.0 Command: /Library/Frameworks/R.framework/Resources/bin/R CMD build --keep-empty-dirs --no-resave-data RadioGx StartedAt: 2024-10-16 22:21:36 -0400 (Wed, 16 Oct 2024) EndedAt: 2024-10-16 22:23:47 -0400 (Wed, 16 Oct 2024) EllapsedTime: 130.5 seconds RetCode: 0 Status: OK PackageFile: RadioGx_2.8.0.tar.gz PackageFileSize: 2.778 MiB