Package: RadioGx Version: 2.8.0 Command: /Library/Frameworks/R.framework/Resources/bin/R CMD check --install=check:RadioGx.install-out.txt --library=/Library/Frameworks/R.framework/Resources/library --no-vignettes --timings RadioGx_2.8.0.tar.gz StartedAt: 2024-10-17 11:27:22 -0400 (Thu, 17 Oct 2024) EndedAt: 2024-10-17 11:37:14 -0400 (Thu, 17 Oct 2024) EllapsedTime: 591.7 seconds RetCode: 0 Status: OK CheckDir: RadioGx.Rcheck Warnings: 0