Package: RadioGx Version: 2.8.0 Command: /home/biocbuild/bbs-3.19-bioc/R/bin/R CMD check --install=check:RadioGx.install-out.txt --library=/home/biocbuild/bbs-3.19-bioc/R/site-library --timings RadioGx_2.8.0.tar.gz StartedAt: 2024-10-17 04:06:28 -0400 (Thu, 17 Oct 2024) EndedAt: 2024-10-17 04:10:42 -0400 (Thu, 17 Oct 2024) EllapsedTime: 254.7 seconds RetCode: 0 Status: OK CheckDir: RadioGx.Rcheck Warnings: 0