Package: RaggedExperiment Version: 1.28.1 Maintainer: Marcel Ramos MaintainerEmail: marcel.ramos at roswellpark.org git_url: https://git.bioconductor.org/packages/RaggedExperiment git_branch: RELEASE_3_19 git_last_commit: a8531a3 git_last_commit_date: 2024-07-08 15:02:15 -0400 (Mon, 08 Jul 2024)