Package: RaggedExperiment Version: 1.28.1 Command: /Library/Frameworks/R.framework/Resources/bin/R CMD INSTALL RaggedExperiment StartedAt: 2024-10-16 15:56:55 -0400 (Wed, 16 Oct 2024) EndedAt: 2024-10-16 15:57:21 -0400 (Wed, 16 Oct 2024) EllapsedTime: 26.9 seconds RetCode: 0 Status: OK