Package: RaggedExperiment Version: 1.28.0 Command: /home/biocbuild/R/R-beta-2024-04-15_r86425/bin/R CMD build --keep-empty-dirs --no-resave-data RaggedExperiment StartedAt: 2024-05-09 02:46:56 -0000 (Thu, 09 May 2024) EndedAt: 2024-05-09 02:47:42 -0000 (Thu, 09 May 2024) EllapsedTime: 46.1 seconds RetCode: 0 Status: OK PackageFile: RaggedExperiment_1.28.0.tar.gz PackageFileSize: 818.1 KiB