Package: RaggedExperiment Version: 1.28.0 Command: /Library/Frameworks/R.framework/Resources/bin/R CMD build --keep-empty-dirs --no-resave-data RaggedExperiment StartedAt: 2024-06-09 17:49:55 -0400 (Sun, 09 Jun 2024) EndedAt: 2024-06-09 17:50:36 -0400 (Sun, 09 Jun 2024) EllapsedTime: 40.6 seconds RetCode: 0 Status: OK PackageFile: RaggedExperiment_1.28.0.tar.gz PackageFileSize: 686.2 KiB