Package: RaggedExperiment Version: 1.28.0 Command: /Library/Frameworks/R.framework/Resources/bin/R CMD check --install=check:RaggedExperiment.install-out.txt --library=/Library/Frameworks/R.framework/Resources/library --no-vignettes --timings RaggedExperiment_1.28.0.tar.gz StartedAt: 2024-06-09 22:26:48 -0400 (Sun, 09 Jun 2024) EndedAt: 2024-06-09 22:29:56 -0400 (Sun, 09 Jun 2024) EllapsedTime: 187.9 seconds RetCode: 0 Status: OK CheckDir: RaggedExperiment.Rcheck Warnings: 0