Package: RaggedExperiment Version: 1.28.1 Command: /Library/Frameworks/R.framework/Resources/bin/R CMD build --keep-empty-dirs --no-resave-data RaggedExperiment StartedAt: 2024-10-16 22:21:47 -0400 (Wed, 16 Oct 2024) EndedAt: 2024-10-16 22:23:17 -0400 (Wed, 16 Oct 2024) EllapsedTime: 89.5 seconds RetCode: 0 Status: OK PackageFile: RaggedExperiment_1.28.1.tar.gz PackageFileSize: 686.4 KiB