Package: RaggedExperiment Version: 1.28.1 Command: /home/biocbuild/bbs-3.19-bioc/R/bin/R CMD build --keep-empty-dirs --no-resave-data RaggedExperiment StartedAt: 2024-10-16 20:17:48 -0400 (Wed, 16 Oct 2024) EndedAt: 2024-10-16 20:18:23 -0400 (Wed, 16 Oct 2024) EllapsedTime: 35.1 seconds RetCode: 0 Status: OK PackageFile: RaggedExperiment_1.28.1.tar.gz PackageFileSize: 686.7 KiB