Package: RaggedExperiment Version: 1.28.1 Command: /home/biocbuild/bbs-3.19-bioc/R/bin/R CMD INSTALL RaggedExperiment StartedAt: 2024-10-16 15:56:47 -0400 (Wed, 16 Oct 2024) EndedAt: 2024-10-16 15:57:09 -0400 (Wed, 16 Oct 2024) EllapsedTime: 21.6 seconds RetCode: 0 Status: OK