Package: RaggedExperiment Version: 1.28.0 Command: chmod a+r RaggedExperiment -R && F:\biocbuild\bbs-3.19-bioc\R\bin\R.exe CMD build --keep-empty-dirs --no-resave-data RaggedExperiment StartedAt: 2024-06-26 21:12:59 -0400 (Wed, 26 Jun 2024) EndedAt: 2024-06-26 21:13:45 -0400 (Wed, 26 Jun 2024) EllapsedTime: 46.3 seconds RetCode: 0 Status: OK PackageFile: RaggedExperiment_1.28.0.tar.gz PackageFileSize: 686.8 KiB