Package: RaggedExperiment Version: 1.28.1 Command: E:\biocbuild\bbs-3.19-bioc\R\bin\R.exe CMD INSTALL RaggedExperiment StartedAt: 2024-10-16 16:20:14 -0400 (Wed, 16 Oct 2024) EndedAt: 2024-10-16 16:21:17 -0400 (Wed, 16 Oct 2024) EllapsedTime: 63.5 seconds RetCode: 0 Status: OK