Package: RandomWalkRestartMH Version: 1.23.0 Command: /home/biocbuild/bbs-3.19-bioc/R/bin/R CMD check --install=check:RandomWalkRestartMH.install-out.txt --library=/home/biocbuild/bbs-3.19-bioc/R/site-library --timings RandomWalkRestartMH_1.23.0.tar.gz StartedAt: 2024-03-07 01:28:34 -0500 (Thu, 07 Mar 2024) EndedAt: 2024-03-07 01:31:13 -0500 (Thu, 07 Mar 2024) EllapsedTime: 158.9 seconds RetCode: 0 Status: WARNINGS CheckDir: RandomWalkRestartMH.Rcheck Warnings: 1