Package: RandomWalkRestartMH Version: 1.23.0 Command: rm -rf RandomWalkRestartMH.buildbin-libdir && mkdir RandomWalkRestartMH.buildbin-libdir && F:\biocbuild\bbs-3.19-bioc\R\bin\R.exe CMD INSTALL --build --library=RandomWalkRestartMH.buildbin-libdir RandomWalkRestartMH_1.23.0.tar.gz StartedAt: 2024-03-05 10:58:35 -0500 (Tue, 05 Mar 2024) EndedAt: 2024-03-05 10:58:52 -0500 (Tue, 05 Mar 2024) EllapsedTime: 17.1 seconds RetCode: 0 Status: OK PackageFile: RandomWalkRestartMH_1.23.0.zip PackageFileSize: 1.396 MiB