Package: Rarr Version: 1.4.0 Command: /Library/Frameworks/R.framework/Resources/bin/R CMD build --keep-empty-dirs --no-resave-data Rarr StartedAt: 2024-10-17 07:10:49 -0400 (Thu, 17 Oct 2024) EndedAt: 2024-10-17 07:11:55 -0400 (Thu, 17 Oct 2024) EllapsedTime: 65.6 seconds RetCode: 0 Status: OK PackageFile: Rarr_1.4.0.tar.gz PackageFileSize: 1.427 MiB