Package: Rarr Version: 1.4.0 Command: rm -rf Rarr.buildbin-libdir && mkdir Rarr.buildbin-libdir && /Users/biocbuild/BBS/utils/build-universal.sh Rarr_1.4.0.tar.gz /Library/Frameworks/R.framework/Resources/bin/R Rarr.buildbin-libdir StartedAt: 2024-06-11 12:41:53 -0400 (Tue, 11 Jun 2024) EndedAt: 2024-06-11 12:43:24 -0400 (Tue, 11 Jun 2024) EllapsedTime: 91.5 seconds RetCode: 0 Status: OK PackageFile: Rarr_1.4.0.tgz PackageFileSize: 1.191 MiB