Package: Rarr Version: 1.4.0 Command: rm -rf Rarr.buildbin-libdir && mkdir Rarr.buildbin-libdir && F:\biocbuild\bbs-3.19-bioc\R\bin\R.exe CMD INSTALL --build --library=Rarr.buildbin-libdir Rarr_1.4.0.tar.gz StartedAt: 2024-06-27 08:44:30 -0400 (Thu, 27 Jun 2024) EndedAt: 2024-06-27 08:46:01 -0400 (Thu, 27 Jun 2024) EllapsedTime: 90.3 seconds RetCode: 0 Status: OK PackageFile: Rarr_1.4.0.zip PackageFileSize: 1.346 MiB