Package: RbcBook1 Version: 1.72.0 Command: /Library/Frameworks/R.framework/Resources/bin/R CMD build --keep-empty-dirs --no-resave-data RbcBook1 StartedAt: 2024-10-16 22:23:47 -0400 (Wed, 16 Oct 2024) EndedAt: 2024-10-16 22:24:08 -0400 (Wed, 16 Oct 2024) EllapsedTime: 21.7 seconds RetCode: 0 Status: OK PackageFile: RbcBook1_1.72.0.tar.gz PackageFileSize: 6.412 MiB