Package: RbcBook1 Version: 1.72.0 Command: rm -rf RbcBook1.buildbin-libdir && mkdir RbcBook1.buildbin-libdir && F:\biocbuild\bbs-3.19-bioc\R\bin\R.exe CMD INSTALL --build --library=RbcBook1.buildbin-libdir RbcBook1_1.72.0.tar.gz StartedAt: 2024-06-27 08:44:37 -0400 (Thu, 27 Jun 2024) EndedAt: 2024-06-27 08:44:56 -0400 (Thu, 27 Jun 2024) EllapsedTime: 19.3 seconds RetCode: 0 Status: OK PackageFile: RbcBook1_1.72.0.zip PackageFileSize: 6.433 MiB