Package: Rbowtie2 Version: 2.10.0 Maintainer: Zheng Wei MaintainerEmail: wzweizheng at qq.com git_url: https://git.bioconductor.org/packages/Rbowtie2 git_branch: RELEASE_3_19 git_last_commit: f4bb536 git_last_commit_date: 2024-04-30 11:00:12 -0400 (Tue, 30 Apr 2024)