Package: Rbowtie2 Version: 2.10.0 Command: /Library/Frameworks/R.framework/Resources/bin/R CMD build --keep-empty-dirs --no-resave-data Rbowtie2 StartedAt: 2024-10-16 22:25:10 -0400 (Wed, 16 Oct 2024) EndedAt: 2024-10-16 22:34:18 -0400 (Wed, 16 Oct 2024) EllapsedTime: 548.5 seconds RetCode: 0 Status: OK PackageFile: Rbowtie2_2.10.0.tar.gz PackageFileSize: 1.711 MiB