Package: Rbowtie2 Version: 2.10.0 Command: /Library/Frameworks/R.framework/Resources/bin/R CMD check --install=check:Rbowtie2.install-out.txt --library=/Library/Frameworks/R.framework/Resources/library --no-vignettes --timings Rbowtie2_2.10.0.tar.gz StartedAt: 2024-10-17 11:32:04 -0400 (Thu, 17 Oct 2024) EndedAt: 2024-10-17 11:33:15 -0400 (Thu, 17 Oct 2024) EllapsedTime: 71.7 seconds RetCode: 0 Status: OK CheckDir: Rbowtie2.Rcheck Warnings: 0