Package: Rbowtie2 Version: 2.10.0 Command: chmod a+r Rbowtie2 -R && E:\biocbuild\bbs-3.19-bioc\R\bin\R.exe CMD build --keep-empty-dirs --no-resave-data Rbowtie2 StartedAt: 2024-10-16 21:24:16 -0400 (Wed, 16 Oct 2024) EndedAt: 2024-10-16 21:24:35 -0400 (Wed, 16 Oct 2024) EllapsedTime: 18.5 seconds RetCode: 1 Status: ERROR PackageFile: None PackageFileSize: NA