Package: Rbwa Version: 1.8.0 Command: rm -rf Rbwa.buildbin-libdir && mkdir Rbwa.buildbin-libdir && /Users/biocbuild/BBS/utils/build-universal.sh Rbwa_1.8.0.tar.gz /Library/Frameworks/R.framework/Resources/bin/R Rbwa.buildbin-libdir StartedAt: 2024-10-18 20:09:30 -0400 (Fri, 18 Oct 2024) EndedAt: 2024-10-18 20:09:53 -0400 (Fri, 18 Oct 2024) EllapsedTime: 23.0 seconds RetCode: 0 Status: OK PackageFile: Rbwa_1.8.0.tgz PackageFileSize: 633.4 KiB