Package: Rbwa Version: 1.8.0 Command: /Library/Frameworks/R.framework/Resources/bin/R CMD check --install=check:Rbwa.install-out.txt --library=/Library/Frameworks/R.framework/Resources/library --no-vignettes --timings Rbwa_1.8.0.tar.gz StartedAt: 2024-10-18 08:48:25 -0400 (Fri, 18 Oct 2024) EndedAt: 2024-10-18 08:48:54 -0400 (Fri, 18 Oct 2024) EllapsedTime: 29.3 seconds RetCode: 0 Status: WARNINGS CheckDir: Rbwa.Rcheck Warnings: 1