Package: Rbwa Version: 1.8.0 Command: rm -rf Rbwa.buildbin-libdir && mkdir Rbwa.buildbin-libdir && /Users/biocbuild/BBS/utils/build-universal.sh Rbwa_1.8.0.tar.gz /Library/Frameworks/R.framework/Resources/bin/R Rbwa.buildbin-libdir StartedAt: 2024-06-11 12:42:48 -0400 (Tue, 11 Jun 2024) EndedAt: 2024-06-11 12:43:20 -0400 (Tue, 11 Jun 2024) EllapsedTime: 31.8 seconds RetCode: 0 Status: OK PackageFile: Rbwa_1.8.0.tgz PackageFileSize: 633.5 KiB