Package: Rbwa Version: 1.8.0 Command: /Library/Frameworks/R.framework/Resources/bin/R CMD check --install=check:Rbwa.install-out.txt --library=/Library/Frameworks/R.framework/Resources/library --no-vignettes --timings Rbwa_1.8.0.tar.gz StartedAt: 2024-10-17 11:32:40 -0400 (Thu, 17 Oct 2024) EndedAt: 2024-10-17 11:33:27 -0400 (Thu, 17 Oct 2024) EllapsedTime: 46.9 seconds RetCode: 0 Status: WARNINGS CheckDir: Rbwa.Rcheck Warnings: 1