Package: Rbwa Version: 1.8.0 Command: /home/biocbuild/bbs-3.19-bioc/R/bin/R CMD check --install=check:Rbwa.install-out.txt --library=/home/biocbuild/bbs-3.19-bioc/R/site-library --timings Rbwa_1.8.0.tar.gz StartedAt: 2024-10-17 04:10:12 -0400 (Thu, 17 Oct 2024) EndedAt: 2024-10-17 04:10:30 -0400 (Thu, 17 Oct 2024) EllapsedTime: 18.1 seconds RetCode: 0 Status: WARNINGS CheckDir: Rbwa.Rcheck Warnings: 2