Package: RcisTarget Version: 1.24.0 Command: /Library/Frameworks/R.framework/Resources/bin/R CMD build --keep-empty-dirs --no-resave-data RcisTarget StartedAt: 2024-10-16 22:25:58 -0400 (Wed, 16 Oct 2024) EndedAt: 2024-10-16 22:26:28 -0400 (Wed, 16 Oct 2024) EllapsedTime: 29.6 seconds RetCode: 1 Status: ERROR PackageFile: None PackageFileSize: NA