Package: RcisTarget Version: 1.24.0 Command: /Library/Frameworks/R.framework/Resources/bin/R CMD INSTALL RcisTarget StartedAt: 2024-10-16 16:17:30 -0400 (Wed, 16 Oct 2024) EndedAt: 2024-10-16 16:17:57 -0400 (Wed, 16 Oct 2024) EllapsedTime: 27.3 seconds RetCode: 1 Status: ERROR