Package: RcisTarget Version: 1.24.0 Command: /home/biocbuild/bbs-3.19-bioc/R/bin/R CMD check --install=check:RcisTarget.install-out.txt --library=/home/biocbuild/bbs-3.19-bioc/R/site-library --timings RcisTarget_1.24.0.tar.gz StartedAt: 2024-10-17 04:10:42 -0400 (Thu, 17 Oct 2024) EndedAt: 2024-10-17 04:17:34 -0400 (Thu, 17 Oct 2024) EllapsedTime: 412.1 seconds RetCode: 0 Status: OK CheckDir: RcisTarget.Rcheck Warnings: 0