Package: RcisTarget Version: 1.24.0 Command: /home/biocbuild/bbs-3.19-bioc/R/bin/R CMD INSTALL RcisTarget StartedAt: 2024-10-16 16:28:49 -0400 (Wed, 16 Oct 2024) EndedAt: 2024-10-16 16:29:27 -0400 (Wed, 16 Oct 2024) EllapsedTime: 37.9 seconds RetCode: 0 Status: OK