Package: RcisTarget Version: 1.24.0 Command: chmod a+r RcisTarget -R && E:\biocbuild\bbs-3.19-bioc\R\bin\R.exe CMD build --keep-empty-dirs --no-resave-data RcisTarget StartedAt: 2024-10-16 21:24:48 -0400 (Wed, 16 Oct 2024) EndedAt: 2024-10-16 21:26:41 -0400 (Wed, 16 Oct 2024) EllapsedTime: 112.4 seconds RetCode: 0 Status: OK PackageFile: RcisTarget_1.24.0.tar.gz PackageFileSize: 12.65 MiB