Package: Rcpi Version: 1.40.3 Command: rm -rf Rcpi.buildbin-libdir && mkdir Rcpi.buildbin-libdir && /Users/biocbuild/BBS/utils/build-universal.sh Rcpi_1.40.3.tar.gz /Library/Frameworks/R.framework/Resources/bin/R Rcpi.buildbin-libdir StartedAt: 2024-10-18 20:10:46 -0400 (Fri, 18 Oct 2024) EndedAt: 2024-10-18 20:11:12 -0400 (Fri, 18 Oct 2024) EllapsedTime: 26.1 seconds RetCode: 0 Status: OK PackageFile: Rcpi_1.40.3.tgz PackageFileSize: 2.576 MiB