Package: Rcpi Version: 1.40.3 Command: /Library/Frameworks/R.framework/Resources/bin/R CMD check --install=check:Rcpi.install-out.txt --library=/Library/Frameworks/R.framework/Resources/library --no-vignettes --timings Rcpi_1.40.3.tar.gz StartedAt: 2024-10-18 08:51:04 -0400 (Fri, 18 Oct 2024) EndedAt: 2024-10-18 08:53:32 -0400 (Fri, 18 Oct 2024) EllapsedTime: 148.8 seconds RetCode: 0 Status: OK CheckDir: Rcpi.Rcheck Warnings: 0